BEGIN:VCALENDAR
VERSION:2.0
PRODID:-//Commanderie d&#039;Arville - ECPv6.15.20//NONSGML v1.0//EN
CALSCALE:GREGORIAN
METHOD:PUBLISH
X-WR-CALNAME:Commanderie d&#039;Arville
X-ORIGINAL-URL:https://commanderie-arville.com
X-WR-CALDESC:Évènements pour Commanderie d&#039;Arville
REFRESH-INTERVAL;VALUE=DURATION:PT1H
X-Robots-Tag:noindex
X-PUBLISHED-TTL:PT1H
BEGIN:VTIMEZONE
TZID:Europe/Paris
BEGIN:DAYLIGHT
TZOFFSETFROM:+0100
TZOFFSETTO:+0200
TZNAME:CEST
DTSTART:20240331T010000
END:DAYLIGHT
BEGIN:STANDARD
TZOFFSETFROM:+0200
TZOFFSETTO:+0100
TZNAME:CET
DTSTART:20241027T010000
END:STANDARD
BEGIN:DAYLIGHT
TZOFFSETFROM:+0100
TZOFFSETTO:+0200
TZNAME:CEST
DTSTART:20250330T010000
END:DAYLIGHT
BEGIN:STANDARD
TZOFFSETFROM:+0200
TZOFFSETTO:+0100
TZNAME:CET
DTSTART:20251026T010000
END:STANDARD
BEGIN:DAYLIGHT
TZOFFSETFROM:+0100
TZOFFSETTO:+0200
TZNAME:CEST
DTSTART:20260329T010000
END:DAYLIGHT
BEGIN:STANDARD
TZOFFSETFROM:+0200
TZOFFSETTO:+0100
TZNAME:CET
DTSTART:20261025T010000
END:STANDARD
END:VTIMEZONE
BEGIN:VEVENT
DTSTART;TZID=Europe/Paris:20250705T143000
DTEND;TZID=Europe/Paris:20250831T153000
DTSTAMP:20260420T225037
CREATED:20250510T143853Z
LAST-MODIFIED:20250701T105549Z
UID:10449-1751725800-1756654200@commanderie-arville.com
SUMMARY:Visite guidée
DESCRIPTION:Nos médiateurs culturels retracent l’histoire si singulière d’une commanderie fondée par les Templiers. \nHistoire des croisades\, naissance de l’ordre du Temple\, transfert de la commanderie aux « Hospitaliers »\, le passé de l’édifice est riche en rebondissements. \nChaque guide présente ce récit tout en interprétant les bâtiments du site historique : porche d’entrée\, église templière\, grange aux dîmes\, anciens communs et pigeonnier (XIIe-XVIIe). \n  \n​EN PRATIQUE \nDu 5 juillet au 31 août \n✓ les mardis\, jeudis\, samedis et dimanches✓ les jours fériés✓ à 14h30 (durée : 1h) \nPas de visites guidées les 12 et 13 juillet => évènement Batailles et ripailles – À la table des chevaliers \nAnnulations possibles à certaines dates => pensez à vérifier l’agenda de la billetterie en ligne avant votre venue. \n  \nTarifs (incluant l’accès au site historique):• adulte : 9€• adolescent (13 – 17 ans) : 7€• enfant (6 – 12 ans) : 5€• accès gratuit pour les abonnés. \n=> réservation en ligne conseillée \n  \n☞ visualiser l’affiche de la programmation estivale☞ télécharger le communiqué de presse des vacances☞ découvrir la programmation proposée cet été
URL:https://commanderie-arville.com/agenda/visite-guidee-ete-commanderie-templiers/
CATEGORIES:Cet été à la Commanderie,Visites guidées
ATTACH;FMTTYPE=image/jpeg:https://commanderie-arville.com/wp-content/uploads/Vignette_Visite-guidee.jpg
END:VEVENT
END:VCALENDAR