BEGIN:VCALENDAR
VERSION:2.0
PRODID:-//Commanderie d&#039;Arville - ECPv6.15.20//NONSGML v1.0//EN
CALSCALE:GREGORIAN
METHOD:PUBLISH
X-ORIGINAL-URL:https://commanderie-arville.com
X-WR-CALDESC:Évènements pour Commanderie d&#039;Arville
REFRESH-INTERVAL;VALUE=DURATION:PT1H
X-Robots-Tag:noindex
X-PUBLISHED-TTL:PT1H
BEGIN:VTIMEZONE
TZID:Europe/Paris
BEGIN:DAYLIGHT
TZOFFSETFROM:+0100
TZOFFSETTO:+0200
TZNAME:CEST
DTSTART:20250330T010000
END:DAYLIGHT
BEGIN:STANDARD
TZOFFSETFROM:+0200
TZOFFSETTO:+0100
TZNAME:CET
DTSTART:20251026T010000
END:STANDARD
BEGIN:DAYLIGHT
TZOFFSETFROM:+0100
TZOFFSETTO:+0200
TZNAME:CEST
DTSTART:20260329T010000
END:DAYLIGHT
BEGIN:STANDARD
TZOFFSETFROM:+0200
TZOFFSETTO:+0100
TZNAME:CET
DTSTART:20261025T010000
END:STANDARD
BEGIN:DAYLIGHT
TZOFFSETFROM:+0100
TZOFFSETTO:+0200
TZNAME:CEST
DTSTART:20270328T010000
END:DAYLIGHT
BEGIN:STANDARD
TZOFFSETFROM:+0200
TZOFFSETTO:+0100
TZNAME:CET
DTSTART:20271031T010000
END:STANDARD
END:VTIMEZONE
BEGIN:VEVENT
DTSTART;TZID=Europe/Paris:20260207T143000
DTEND;TZID=Europe/Paris:20260301T153000
DTSTAMP:20260420T105659
CREATED:20260107T074718Z
LAST-MODIFIED:20260302T082553Z
UID:11717-1770474600-1772379000@commanderie-arville.com
SUMMARY:Visite guidées
DESCRIPTION:Nos médiateurs culturels retracent l’histoire si singulière d’une commanderie fondée par les Templiers. \nHistoire des croisades\, naissance de l’ordre du Temple\, transfert de la commanderie aux « Hospitaliers »\, le passé de l’édifice est riche en rebondissements. \nChaque guide présente ce récit tout en interprétant les bâtiments du site historique : porche d’entrée\, église templière\, grange aux dîmes\, anciens communs et pigeonnier (XIIe-XVIIe). \n  \n​EN PRATIQUE \nDu 7 février au 8 mars \n✓ les samedis et dimanches✓ à 14h30 (durée : 1h)=> pas de visites guidées les 14 et 15 février et les 7 et 8 mars \nTarifs (incluant l’accès au site historique):• adulte : 9€• adolescent (13 – 17 ans) : 7€• enfant (6 – 12 ans) : 5€• accès gratuit pour les abonnés. \n=> réservation en ligne conseillée (disponible ci-dessous) \n☞ découvrir les activités organisées durant les vacances d’hiver☞ consulter le communiqué de presse des vacances d’hiver
URL:https://commanderie-arville.com/agenda/visite-guidee-vacances-fevrier/
CATEGORIES:Vacances d'hiver,Visites guidées
ATTACH;FMTTYPE=image/webp:https://commanderie-arville.com/wp-content/uploads/visite-guidee-commanderie-templiers.webp
END:VEVENT
END:VCALENDAR