BEGIN:VCALENDAR
VERSION:2.0
PRODID:-//Commanderie d&#039;Arville - ECPv6.15.20//NONSGML v1.0//EN
CALSCALE:GREGORIAN
METHOD:PUBLISH
X-WR-CALNAME:Commanderie d&#039;Arville
X-ORIGINAL-URL:https://commanderie-arville.com
X-WR-CALDESC:Évènements pour Commanderie d&#039;Arville
REFRESH-INTERVAL;VALUE=DURATION:PT1H
X-Robots-Tag:noindex
X-PUBLISHED-TTL:PT1H
BEGIN:VTIMEZONE
TZID:Europe/Paris
BEGIN:DAYLIGHT
TZOFFSETFROM:+0100
TZOFFSETTO:+0200
TZNAME:CEST
DTSTART:20250330T010000
END:DAYLIGHT
BEGIN:STANDARD
TZOFFSETFROM:+0200
TZOFFSETTO:+0100
TZNAME:CET
DTSTART:20251026T010000
END:STANDARD
BEGIN:DAYLIGHT
TZOFFSETFROM:+0100
TZOFFSETTO:+0200
TZNAME:CEST
DTSTART:20260329T010000
END:DAYLIGHT
BEGIN:STANDARD
TZOFFSETFROM:+0200
TZOFFSETTO:+0100
TZNAME:CET
DTSTART:20261025T010000
END:STANDARD
BEGIN:DAYLIGHT
TZOFFSETFROM:+0100
TZOFFSETTO:+0200
TZNAME:CEST
DTSTART:20270328T010000
END:DAYLIGHT
BEGIN:STANDARD
TZOFFSETFROM:+0200
TZOFFSETTO:+0100
TZNAME:CET
DTSTART:20271031T010000
END:STANDARD
END:VTIMEZONE
BEGIN:VEVENT
DTSTART;TZID=Europe/Paris:20260207T100000
DTEND;TZID=Europe/Paris:20261101T173000
DTSTAMP:20260420T152054
CREATED:20260105T090916Z
LAST-MODIFIED:20260302T155439Z
UID:11677-1770458400-1793554200@commanderie-arville.com
SUMMARY:Jeu «Le secret de la Commanderie»
DESCRIPTION:Une aventure immersive\nGuillermus d’Aridavilla vous a laissé un mystérieux parchemin\, parsemé d’énigmes à déchiffrer… \nÀ vous de jouer! Résolvez les différentes épreuves\, parcourez le site historique et découvrez le secret laissé par les Templiers. Parviendrez-vous au bout de votre quête ? \nCe jeu d’immersion a été conçu et approuvé par l’équipe de Cap Découvertes! \n  \n\nLes infos pratiques\n📅 Du 7 février au 1er novembre 2026Durée estimée: 1h30Attention : derniers départs à 16h00 \n🧑‍🧑‍🧒‍🧒 Joueurs \n\nen famille\, entre amis ou en groupe\nconseillé à partir de 8 ans\n2 versions au choix: «jeune public» ou «joueurs confirmés»\n\n🎟️ Tarifs: billet couplé (accès au jeu + visite libre de la Commanderie d’Arville) \n\nAdulte : 9€\nAdolescent (13-17 ans) : 8€\nEnfant (6-12 ans) : 6€\ngratuit pour les abonnés\n\n📲 RéservationLa réservation en ligne est conseillée pour garantir votre créneau de jeu. \n📍 Lieu:Commanderie d’Arville1\, allée de la Commanderie – Arville41170 Couëtron-au-Perche (Loir-et-Cher) \n\n\nPOUR ALLER PLUS LOIN:\n\n📥 Télécharger l’affiche du jeu d’enquête
URL:https://commanderie-arville.com/agenda/jeu-immersion-templiers/
CATEGORIES:Cet été à la Commanderie,Jeux d'immersion,Vacances d'automne,Vacances d'hiver,Vacances de Noël,Vacances de printemps
ATTACH;FMTTYPE=image/webp:https://commanderie-arville.com/wp-content/uploads/Le-secret-de-la-Commanderie.webp
END:VEVENT
BEGIN:VEVENT
DTSTART;TZID=Europe/Paris:20260701T143000
DTEND;TZID=Europe/Paris:20260831T153000
DTSTAMP:20260420T152054
CREATED:20260319T093051Z
LAST-MODIFIED:20260319T104418Z
UID:12622-1782916200-1788190200@commanderie-arville.com
SUMMARY:Visite guidée d'une commanderie templière
DESCRIPTION:Une commanderie fondée par les Templiers\nA la Commanderie d’Arville\, les médiateurs culturels invitent le public à découvrir l’histoire singulière de l’une des commanderies templières les mieux conservées de France. \nLa visite guidée retrace la fondation du lieu au XIIᵉ siècle par les Templiers\, un ordre né dans le contexte des croisades. Elle évoque également le devenir de la commanderie après la disparition du Temple\, lorsque le domaine est confié aux Hospitaliers. \nComprendre l’édifice historique\nAu fil de la visite\, les guides interprètent les principaux bâtiments qui composent l’ensemble architectural: porche d’entrée\, église templière\, grange aux dîmes\, anciens communs et pigeonnier (XIIᵉ-XVIIᵉ siècles). \nCette découverte permet de mieux saisir l’organisation et le rôle d’une commanderie au fil des siècles. \n\nLes infos pratiques\n📅Du 4 juillet au 30 août 2026Les week-ends et jours fériés\, à 14h30 \n📅Du 13 juillet au 23 août 2026Visites également proposées les mardis et jeudis\, à 14h30 \n⏳Durée: 1h \n⚠️ À noterPas de visites guidées les 11 et 12 juillet => évènement Les médiévales d’Arville \nCertaines dates peuvent être annulées: consultez l’agenda de la billetterie en ligne avant votre venue. \n🎟️ Accès payantAccès au site historique inclus. \n\nadulte : 9€\nadolescent (13 – 17 ans) : 7€\nenfant (6 – 12 ans) : 5€\naccès gratuit pour les abonnés\n\n📲 RéservationNombre de places limité => réservation en ligne conseillée (disponible bientôt) \n📍 Lieu:Visite guidée proposée à la Commanderie d’Arville\, site historique situé dans le Perche (Loir-et-Cher)\, près de Vendôme.41170 Couëtron-au-Perche \nVoir sur la carte\n\n \n\nPOUR ALLER PLUS LOIN\n\n🔎 Découvrir toutes les activités des vacances d’été\n📥 Télécharger l’affiche de la programmation (bientôt disponible).\n🗞️ Consulter le communiqué de presse des vacances d’été (bientôt disponible)
URL:https://commanderie-arville.com/agenda/visite-guidee-templiers-ete/
CATEGORIES:Cet été à la Commanderie,Visites guidées
ATTACH;FMTTYPE=image/webp:https://commanderie-arville.com/wp-content/uploads/visite-guidee-commanderie-templiers.webp
END:VEVENT
BEGIN:VEVENT
DTSTART;TZID=Europe/Paris:20260710T180000
DTEND;TZID=Europe/Paris:20260712T183000
DTSTAMP:20260420T152054
CREATED:20260107T115439Z
LAST-MODIFIED:20260228T154604Z
UID:11813-1783706400-1783881000@commanderie-arville.com
SUMMARY:Les médiévales d'Arville - 16e édition
DESCRIPTION:Un week-end dédié à l’ordre du Temple ✨⚔️\nEn 2026\, Les médiévales d’Arville prennent une dimension particulière en mettant à l’honneur les Templiers et leur histoire ☩☩☩ \nBILLETTERIE EN LIGNE \n(bientôt disponible) \n			\n				\n				\n				\n				\n				Au programme de cette 16e édition \nCompagnies de reconstitution\, artistes et artisans investissent la commanderie templière et invitent le public à remonter le temps\, sur les traces des chevaliers templiers. \nSpectacles et animations rythment l’évènement\, entre Occident et Orient 🐴☀️ \n			\n				\n				\n				\n				\n				⚔️ Compagnies de reconstitution\n				☩☩☩ Plusieurs compagnies s’installent à travers la commanderie templière et plongent les visiteurs aux 12ᵉ et 13ᵉ siècles\, à travers de nombreuses animations et ateliers. \n🗡️🛡️ Démonstrations de combats\, présentation de l’ordre du Temple\, armement\, costumes\, architecture\, médecine\, jeux\, monnaies ou encore cuisine … sont mis en scène tout le week-end. \n🐴🌴 Le fil conducteur de cette édition est le voyage d’Occident en Orient\, pour explorer la diversité des regards portés sur cette époque (Européens\, Byzantins\, Arabes et Turcs). \n⚔️ Près de 60 reconstituteurs\, regroupés en 8 compagnies – Les Seigneurs d’Orient\, Fratres in Vitam\, Ordines Terra Sanctum\, La Flamme Baussanne\, Les Guerriers d’Ibelin\, Cité d’Antan\, Domus Teutonica et Terra Rubea – proposent au public une découverte vivante et pédagogique de cette période. \n			\n				\n				\n				\n				\n				👑 Spectacles & animations\n				Tout au long du week-end\, laissez-vous porter par les spectacles et les activités organisés durant la manifestation! \n\n🍗 LE BANQUET MÉDIÉVAL (samedi à 20h) \nInvitez-vous à la table du banquet et savourez un délicieux repas aux saveurs de l’Orient\, préparé par Fabian Müllers et le collectif La Cuisine Historique. \n⚠️ Uniquement sur réservation.👉 Télécharger le menu (bientôt disponible) \n\n\n🌙 Spectacle nocturne AnimaUn show visuel et envoutant interprété par la compagnie Manda Lights (vendredi soir).\n🎵 Concert avec DayazellDes steppes de Mongolie en passant par l’Egypte\, ces musiciens vous transportent dans un voyage onirique.\n🎭 «Heaume Sweet Heaume»Plongez dans une aventure improvisée avec les comédiens de la compagnie Suprême Fourbi.\n🗝️ Escape GameRésolvez des énigmes en famille et déjouez les épreuves de «L’Échappe-tente»!\n📢 Le Crieur PublicUn message à transmettre? Une pensée inavouée? Gweltaz le File clame haut et fort tout ce que vous lui écrirez!\n⚒️ Les métiers enjouésDécouvrez les échoppes de la compagnie La Muse consacrées au commerce\, à la cuisine du Moyen-Orient et aux secrets de l’artisan cirier.\n🎨 MaquillageLes DécoifFées du PincEau (cie Artoutaï) déambulent et transforment petits et grands en quelques minutes.\n🐴 Balades en attelageFlânez à travers le territoire en compagnie de La Bergère du Perche et ses percherons.\n\n			\n				\n				\n				\n				\n				🛡️ Marché d'artisans\n				Parcourez les étals du marché historique\, entre créations artisanales et spécialités gourmandes à déguster ou à emporter. \n📣 Artisans\, il reste des places! \nVous êtes artisan et souhaitez participer à nos médiévales ? 📩 Envoyez-nous un message via le formulaire de contact en présentant les produits exposés sur votre stand. \n			\n				\n				\n				\n				\n				📍 Infos pratiques\n				HORAIRES \n\nVendredi 10/07: 18h à 23h (accès gratuit)\nSamedi 11/07: 10h à 20h (accès gratuit à partir de 18h)\nDimanche 12/07: 10h à 18h30\n\n\nTARIFS \n\nAdulte : 7\,50€\nAdolescent (13-17 ans) : 5€\nEnfant (6 – 12 ans) : 3€ – Gratuit -6 ans\nPersonne en situation de handicap : 3€\nAccès gratuit pour les abonnés.\n🎭 Tarif personnes en costume médiéval: 3€ (attention: un simple heaume ou une couronne ne suffisent pas)\n\n👉 Accès gratuit les 10 et 11/07 à partir de 18h. \n\n✨ LE BON PLAN \n✓ «Pass évènement» (2 jours) : 12€ \n👉 Billet «coupe-file»: pensez à la réservation en ligne (bientôt disponible) \n\n\nBANQUET & RESTAURATION \n\nBanquet médiéval: le 11/07\, de 20h à 22h30 (accessible sur réservation) Inclus : Un « pass évènement » offert à chaque convive. Limité à 80 places\n👉 Consultez le menu du banquet (bientôt disponible)\n \nRestauration sur place & taverne: menu mis en ligne prochainement\n\n			\n				\n				\n				\n				\n				🎬 Le coin vidéo\nAvant le teaser officiel\, découvrez l’univers des compagnies présentes aux Médiévales d’Arville…
URL:https://commanderie-arville.com/agenda/medievales-templiers-juillet/
CATEGORIES:Cet été à la Commanderie
ATTACH;FMTTYPE=image/webp:https://commanderie-arville.com/wp-content/uploads/Les-medievales-Arville-3.webp
END:VEVENT
END:VCALENDAR